BEGIN:VCALENDAR
VERSION:2.0
PRODID:-//Tukios.com/
BEGIN:VEVENT
UID:05330613-6ac6-4603-ab72-7453533cf7aa@obits.fairfuneralhome.com
DTSTAMP:20260419T225045Z
DTSTART:20260421T210000Z
DTEND:20260421T230000Z
SUMMARY:Visitation
DESCRIPTION:
URL:https://obits.fairfuneralhome.com/doris-patterson
LOCATION:Fair Funeral Home 432 Boone Rd  Eden NC 27288
GEO:36.4965426;-79.7608533
END:VEVENT
END:VCALENDAR